BEGIN:VCALENDAR
VERSION:2.0
PRODID:-//Plone.org//NONSGML plone.app.event//EN
X-WR-TIMEZONE:Europe/Berlin
BEGIN:VEVENT
SUMMARY:DIDATTICA E INTELLIGENZA ARTIFICIALE - Cosa cambia per gli insegna
 nti e come affrontarla
DTSTART;TZID=Europe/Berlin;VALUE=DATE-TIME:20260126T173000
DTEND;TZID=Europe/Berlin;VALUE=DATE-TIME:20260126T183000
DTSTAMP;VALUE=DATE-TIME:20260423T071726Z
UID:5e1a17633f8c4589a606fb1ac8f8c84f@localhost:8109
CREATED;VALUE=DATE-TIME:20260124T084758Z
DESCRIPTION:Un webinar a cura del Corso di Perfezionamento in Comunicazion
 e della Scienza e Public Engagement per indagare il complesso rapporto tra
  didattica e intelligenza artificiale.
LAST-MODIFIED;VALUE=DATE-TIME:20260124T085011Z
URL:https://ums.unife.it/comunicazionescienza/eventi-1/didattica-e-intelli
 genza-artificiale-cosa-cambia-per-gli-insegnanti-e-come-affrontarla
END:VEVENT
BEGIN:VEVENT
SUMMARY:Attivare territori\, trasformare saperi: la forza della scienza pa
 rtecipata - CONVEGNO NAZIONALE DI COMUNICAZIONE DELLA SCIENZA - Trieste
DTSTART;TZID=Europe/Berlin;VALUE=DATE-TIME:20251202T114500
DTEND;TZID=Europe/Berlin;VALUE=DATE-TIME:20251202T124500
DTSTAMP;VALUE=DATE-TIME:20260423T071726Z
UID:45fe289d640248dfae0ff36aef16ff3e@localhost:8109
CREATED;VALUE=DATE-TIME:20250809T110933Z
DESCRIPTION:Partecipiamo al Convegno Nazionale di Comunicazione della Scie
 nza con l'intervento "STRENGTH. Comunicare i rischi naturali: dalla ricerc
 a al public engagement" di Elena Benvenuti e Marco Faggioli.
LAST-MODIFIED;VALUE=DATE-TIME:20250809T111037Z
URL:https://ums.unife.it/comunicazionescienza/eventi-1/attivare-territori-
 trasformare-saperi-la-forza-della-scienza-partecipata-convegno-nazionale-d
 i-comunicazione-della-scienza-trieste
END:VEVENT
BEGIN:VEVENT
SUMMARY:LA SCIENZA FA NOTIZIA - WORKSHOP a INTERNAZIONALE - Ferrara
DTSTART;TZID=Europe/Berlin;VALUE=DATE-TIME:20251003T125000
DTEND;TZID=Europe/Berlin;VALUE=DATE-TIME:20251005T135000
DTSTAMP;VALUE=DATE-TIME:20260423T071726Z
UID:46919732b782441ba8a4f480ab0ab28d@localhost:8109
CREATED;VALUE=DATE-TIME:20250809T105434Z
DESCRIPTION:Un workshop sulla comunicazione scientifica tenuto da Elisa Ma
 nacorda e organizzato da Agenda 17 Plus e DOS in collaborazione con il Cor
 so di perfezionamento in comunicazione della scienza e public engagement
LAST-MODIFIED;VALUE=DATE-TIME:20250809T105511Z
URL:https://ums.unife.it/comunicazionescienza/eventi-1/la-scienza-fa-notiz
 ia-workshop-a-internazionale-ferrara
END:VEVENT
BEGIN:VEVENT
SUMMARY:FESTIVALETTERATURA Mantova - 2025
DTSTART;TZID=Europe/Berlin;VALUE=DATE-TIME:20250903T140000
DTEND;TZID=Europe/Berlin;VALUE=DATE-TIME:20250907T173000
DTSTAMP;VALUE=DATE-TIME:20260423T071726Z
UID:06c64fb9452b44eeb8193576b3d955d5@localhost:8109
CREATED;VALUE=DATE-TIME:20250809T103044Z
DESCRIPTION:Dal 3 al 7 settembre 2025 partecipiamo a Festivaletteratura di
  Mantova collaborando alla realizzazione di incontri e laboratori collegat
 i al Progetto LAB - Libri Acque Boschi.
LAST-MODIFIED;VALUE=DATE-TIME:20250809T103107Z
URL:https://ums.unife.it/comunicazionescienza/eventi-1/festivaletteratura-
 mantova-2025
END:VEVENT
BEGIN:VEVENT
SUMMARY:Scienza\, tecnologia\, opinione pubblica: tendenze e prospettive
DTSTART;TZID=Europe/Berlin;VALUE=DATE-TIME:20250226T183000
DTEND;TZID=Europe/Berlin;VALUE=DATE-TIME:20250226T200000
DTSTAMP;VALUE=DATE-TIME:20260423T071726Z
UID:0944de48b1ff4f4785f3d4353163e0b5@localhost:8109
CREATED;VALUE=DATE-TIME:20250216T114610Z
DESCRIPTION:Live webinar con Giuseppe Pellegrini\, Presidente di Observa S
 cience in Society.
LAST-MODIFIED;VALUE=DATE-TIME:20250216T114619Z
URL:https://ums.unife.it/comunicazionescienza/eventi-1/scienza-tecnologia-
 opinione-pubblica-tendenze-e-prospettive
END:VEVENT
BEGIN:VEVENT
SUMMARY:Bernard Schiele - Lectio Magistralis
DTSTART;TZID=Europe/Berlin;VALUE=DATE-TIME:20241025T150000
DTEND;TZID=Europe/Berlin;VALUE=DATE-TIME:20241025T170000
DTSTAMP;VALUE=DATE-TIME:20260423T071726Z
UID:9c5ecee4bad34e318a98049ef10ac0d0@localhost:8109
CREATED;VALUE=DATE-TIME:20241024T113007Z
LAST-MODIFIED;VALUE=DATE-TIME:20241024T113056Z
URL:https://ums.unife.it/comunicazionescienza/eventi-1/bernard-schiele-lec
 tio-magistralis
END:VEVENT
BEGIN:VEVENT
SUMMARY:LAB per le scuole - Festivaletteratura di Mantova
DTSTART;TZID=Europe/Berlin;VALUE=DATE-TIME:20240904T130000
DTEND;TZID=Europe/Berlin;VALUE=DATE-TIME:20240906T160000
DTSTAMP;VALUE=DATE-TIME:20260423T071726Z
UID:ea1bcdfa7ca647389cc85bdc541b4c96@localhost:8109
CREATED;VALUE=DATE-TIME:20240902T212450Z
DESCRIPTION:un ciclo di incontri su libri\, acque\, boschi per gli insegna
 nti
LAST-MODIFIED;VALUE=DATE-TIME:20240902T212735Z
URL:https://ums.unife.it/comunicazionescienza/eventi-1/lab-per-le-scuole-f
 estivaletteratura-di-mantova
END:VEVENT
BEGIN:VEVENT
SUMMARY:CHI STA PARLANDO? - Gioco/Laboratorio al FEstival della Scienza di
  Ferrara 2024
DTSTART;TZID=Europe/Berlin;VALUE=DATE-TIME:20240630T110000
DTEND;TZID=Europe/Berlin;VALUE=DATE-TIME:20240630T173000
DTSTAMP;VALUE=DATE-TIME:20260423T071726Z
UID:99c66e2949614fd3b7b8f5d9c9b80017@localhost:8109
CREATED;VALUE=DATE-TIME:20240621T210229Z
DESCRIPTION:Un gioco-laboratorio ideato dalle studentesse e dagli studenti
  del Corso di perfezionamento in Comunicazione della Scienza e Public Enga
 gement.
LAST-MODIFIED;VALUE=DATE-TIME:20240621T211432Z
URL:https://ums.unife.it/comunicazionescienza/eventi-1/chi-sta-parlando-gi
 oco-laboratorio-al-festival-della-scienza-di-ferrara-2024
END:VEVENT
BEGIN:VEVENT
SUMMARY:Intelligenze Artificiali - Tavola rotonda
DTSTART;TZID=Europe/Berlin;VALUE=DATE-TIME:20240112T170000
DTEND;TZID=Europe/Berlin;VALUE=DATE-TIME:20240112T183000
DTSTAMP;VALUE=DATE-TIME:20260423T071726Z
UID:e63881dde6774a1e8530e001c003fa39@localhost:8109
CREATED;VALUE=DATE-TIME:20240105T123017Z
LAST-MODIFIED;VALUE=DATE-TIME:20240105T123516Z
URL:https://ums.unife.it/comunicazionescienza/eventi-1/intelligenze-artifi
 ciali-tavola-rotonda-1
END:VEVENT
BEGIN:VEVENT
SUMMARY:Sostenibilità: tra scuola\, scienza e comunicazione - Tavola roto
 nda nell'ambito del  Convegno Nazionale di Comunicazione della Scienza di 
 Trieste
DTSTART;VALUE=DATE:20231128
DTEND;VALUE=DATE:20231129
DTSTAMP;VALUE=DATE-TIME:20260423T071726Z
UID:a0ab0b9a8824480f9bc50a7129532f14@localhost:8109
CREATED;VALUE=DATE-TIME:20230801T114336Z
LAST-MODIFIED;VALUE=DATE-TIME:20230801T115357Z
URL:https://ums.unife.it/comunicazionescienza/eventi-1/sostenibilita-tra-s
 cuola-scienza-e-comunicazione-convegno-nazionale-di-comunicazione-della-sc
 ienza
END:VEVENT
BEGIN:VEVENT
SUMMARY:IN-FORMARE\, workshop nell'ambito di Air-Break Festa dell'Aria di 
 Ferrara
DTSTART;TZID=Europe/Berlin;VALUE=DATE-TIME:20231005T093000
DTEND;TZID=Europe/Berlin;VALUE=DATE-TIME:20231005T123000
DTSTAMP;VALUE=DATE-TIME:20260423T071726Z
UID:8a47574e79ce49b098a82e7f45f5fbe7@localhost:8109
CREATED;VALUE=DATE-TIME:20230801T112924Z
LAST-MODIFIED;VALUE=DATE-TIME:20230802T100451Z
URL:https://ums.unife.it/comunicazionescienza/eventi-1/air-break-festa-del
 laria-di-ferrara-workshop-in-formare
END:VEVENT
BEGIN:VEVENT
SUMMARY:Un'Agenda per il Mondo\, workshop nell'ambito del Festival di Inte
 rnazionale a Ferrara
DTSTART;VALUE=DATE:20230929
DTEND;VALUE=DATE:20231002
DTSTAMP;VALUE=DATE-TIME:20260423T071726Z
UID:1776037fa1c042c799cee7842f68518f@localhost:8109
CREATED;VALUE=DATE-TIME:20230801T105508Z
LAST-MODIFIED;VALUE=DATE-TIME:20230801T105622Z
URL:https://ums.unife.it/comunicazionescienza/eventi-1/unagenda-per-il-mon
 do-workshop-nellambito-del-festival-di-internazionale-a-ferrara
END:VEVENT
BEGIN:VEVENT
SUMMARY:Area Open Science 48. Festivaletteratura di Mantova
DTSTART;VALUE=DATE:20230906
DTEND;VALUE=DATE:20230911
DTSTAMP;VALUE=DATE-TIME:20260423T071726Z
UID:24325e4f7038444eb388489205ac20fb@localhost:8109
CREATED;VALUE=DATE-TIME:20230801T105135Z
LAST-MODIFIED;VALUE=DATE-TIME:20230802T100425Z
URL:https://ums.unife.it/comunicazionescienza/eventi-1/festivaletteratura-
 di-mantova-spazio-area-open-science-48
END:VEVENT
BEGIN:VTIMEZONE
TZID:Europe/Berlin
X-LIC-LOCATION:Europe/Berlin
BEGIN:STANDARD
DTSTART;VALUE=DATE-TIME:20251026T020000
TZNAME:CET
TZOFFSETFROM:+0200
TZOFFSETTO:+0100
END:STANDARD
BEGIN:DAYLIGHT
DTSTART;VALUE=DATE-TIME:20250330T030000
TZNAME:CEST
TZOFFSETFROM:+0100
TZOFFSETTO:+0200
END:DAYLIGHT
BEGIN:STANDARD
DTSTART;VALUE=DATE-TIME:20241027T020000
TZNAME:CET
TZOFFSETFROM:+0200
TZOFFSETTO:+0100
END:STANDARD
BEGIN:DAYLIGHT
DTSTART;VALUE=DATE-TIME:20240331T030000
TZNAME:CEST
TZOFFSETFROM:+0100
TZOFFSETTO:+0200
END:DAYLIGHT
BEGIN:STANDARD
DTSTART;VALUE=DATE-TIME:20231029T020000
TZNAME:CET
TZOFFSETFROM:+0200
TZOFFSETTO:+0100
END:STANDARD
BEGIN:DAYLIGHT
DTSTART;VALUE=DATE-TIME:20230326T030000
TZNAME:CEST
TZOFFSETFROM:+0100
TZOFFSETTO:+0200
END:DAYLIGHT
END:VTIMEZONE
END:VCALENDAR
