BEGIN:VCALENDAR
VERSION:2.0
PRODID:-//Plone.org//NONSGML plone.app.event//EN
X-WR-TIMEZONE:Europe/Berlin
BEGIN:VEVENT
SUMMARY:Intelligenze Artificiali - Tavola rotonda
DTSTART;TZID=Europe/Berlin;VALUE=DATE-TIME:20240112T170000
DTEND;TZID=Europe/Berlin;VALUE=DATE-TIME:20240112T183000
DTSTAMP;VALUE=DATE-TIME:20260424T025737Z
UID:e63881dde6774a1e8530e001c003fa39@localhost:8109
CREATED;VALUE=DATE-TIME:20240105T123017Z
LAST-MODIFIED;VALUE=DATE-TIME:20240105T123516Z
URL:https://ums.unife.it/comunicazionescienza/eventi-1/intelligenze-artifi
 ciali-tavola-rotonda-1
END:VEVENT
BEGIN:VTIMEZONE
TZID:Europe/Berlin
X-LIC-LOCATION:Europe/Berlin
BEGIN:STANDARD
DTSTART;VALUE=DATE-TIME:20231029T020000
TZNAME:CET
TZOFFSETFROM:+0200
TZOFFSETTO:+0100
END:STANDARD
END:VTIMEZONE
END:VCALENDAR
